BEGIN:VCALENDAR
VERSION:2.0
PRODID:-//Austin-San Antonio - ECPv6.15.20//NONSGML v1.0//EN
CALSCALE:GREGORIAN
METHOD:PUBLISH
X-WR-CALNAME:Austin-San Antonio
X-ORIGINAL-URL:https://atxsa.cisvusa.org
X-WR-CALDESC:Events for Austin-San Antonio
REFRESH-INTERVAL;VALUE=DURATION:PT1H
X-Robots-Tag:noindex
X-PUBLISHED-TTL:PT1H
BEGIN:VTIMEZONE
TZID:America/Chicago
BEGIN:DAYLIGHT
TZOFFSETFROM:-0600
TZOFFSETTO:-0500
TZNAME:CDT
DTSTART:20190310T080000
END:DAYLIGHT
BEGIN:STANDARD
TZOFFSETFROM:-0500
TZOFFSETTO:-0600
TZNAME:CST
DTSTART:20191103T070000
END:STANDARD
BEGIN:DAYLIGHT
TZOFFSETFROM:-0600
TZOFFSETTO:-0500
TZNAME:CDT
DTSTART:20200308T080000
END:DAYLIGHT
BEGIN:STANDARD
TZOFFSETFROM:-0500
TZOFFSETTO:-0600
TZNAME:CST
DTSTART:20201101T070000
END:STANDARD
BEGIN:DAYLIGHT
TZOFFSETFROM:-0600
TZOFFSETTO:-0500
TZNAME:CDT
DTSTART:20210314T080000
END:DAYLIGHT
BEGIN:STANDARD
TZOFFSETFROM:-0500
TZOFFSETTO:-0600
TZNAME:CST
DTSTART:20211107T070000
END:STANDARD
BEGIN:DAYLIGHT
TZOFFSETFROM:-0600
TZOFFSETTO:-0500
TZNAME:CDT
DTSTART:20220313T080000
END:DAYLIGHT
BEGIN:STANDARD
TZOFFSETFROM:-0500
TZOFFSETTO:-0600
TZNAME:CST
DTSTART:20221106T070000
END:STANDARD
BEGIN:DAYLIGHT
TZOFFSETFROM:-0600
TZOFFSETTO:-0500
TZNAME:CDT
DTSTART:20230312T080000
END:DAYLIGHT
BEGIN:STANDARD
TZOFFSETFROM:-0500
TZOFFSETTO:-0600
TZNAME:CST
DTSTART:20231105T070000
END:STANDARD
BEGIN:DAYLIGHT
TZOFFSETFROM:-0600
TZOFFSETTO:-0500
TZNAME:CDT
DTSTART:20240310T080000
END:DAYLIGHT
BEGIN:STANDARD
TZOFFSETFROM:-0500
TZOFFSETTO:-0600
TZNAME:CST
DTSTART:20241103T070000
END:STANDARD
BEGIN:DAYLIGHT
TZOFFSETFROM:-0600
TZOFFSETTO:-0500
TZNAME:CDT
DTSTART:20250309T080000
END:DAYLIGHT
BEGIN:STANDARD
TZOFFSETFROM:-0500
TZOFFSETTO:-0600
TZNAME:CST
DTSTART:20251102T070000
END:STANDARD
END:VTIMEZONE
BEGIN:VTIMEZONE
TZID:America/New_York
BEGIN:DAYLIGHT
TZOFFSETFROM:-0500
TZOFFSETTO:-0400
TZNAME:EDT
DTSTART:20190310T070000
END:DAYLIGHT
BEGIN:STANDARD
TZOFFSETFROM:-0400
TZOFFSETTO:-0500
TZNAME:EST
DTSTART:20191103T060000
END:STANDARD
BEGIN:DAYLIGHT
TZOFFSETFROM:-0500
TZOFFSETTO:-0400
TZNAME:EDT
DTSTART:20200308T070000
END:DAYLIGHT
BEGIN:STANDARD
TZOFFSETFROM:-0400
TZOFFSETTO:-0500
TZNAME:EST
DTSTART:20201101T060000
END:STANDARD
BEGIN:DAYLIGHT
TZOFFSETFROM:-0500
TZOFFSETTO:-0400
TZNAME:EDT
DTSTART:20210314T070000
END:DAYLIGHT
BEGIN:STANDARD
TZOFFSETFROM:-0400
TZOFFSETTO:-0500
TZNAME:EST
DTSTART:20211107T060000
END:STANDARD
BEGIN:DAYLIGHT
TZOFFSETFROM:-0500
TZOFFSETTO:-0400
TZNAME:EDT
DTSTART:20220313T070000
END:DAYLIGHT
BEGIN:STANDARD
TZOFFSETFROM:-0400
TZOFFSETTO:-0500
TZNAME:EST
DTSTART:20221106T060000
END:STANDARD
BEGIN:DAYLIGHT
TZOFFSETFROM:-0500
TZOFFSETTO:-0400
TZNAME:EDT
DTSTART:20230312T070000
END:DAYLIGHT
BEGIN:STANDARD
TZOFFSETFROM:-0400
TZOFFSETTO:-0500
TZNAME:EST
DTSTART:20231105T060000
END:STANDARD
BEGIN:DAYLIGHT
TZOFFSETFROM:-0500
TZOFFSETTO:-0400
TZNAME:EDT
DTSTART:20240310T070000
END:DAYLIGHT
BEGIN:STANDARD
TZOFFSETFROM:-0400
TZOFFSETTO:-0500
TZNAME:EST
DTSTART:20241103T060000
END:STANDARD
BEGIN:DAYLIGHT
TZOFFSETFROM:-0500
TZOFFSETTO:-0400
TZNAME:EDT
DTSTART:20250309T070000
END:DAYLIGHT
BEGIN:STANDARD
TZOFFSETFROM:-0400
TZOFFSETTO:-0500
TZNAME:EST
DTSTART:20251102T060000
END:STANDARD
END:VTIMEZONE
BEGIN:VEVENT
DTSTART;TZID=America/Chicago:20241109T170000
DTEND;TZID=America/Chicago:20241110T100000
DTSTAMP:20260420T215522
CREATED:20191031T211931Z
LAST-MODIFIED:20241028T231646Z
UID:10000029-1731171600-1731232800@atxsa.cisvusa.org
SUMMARY:Youth Sleepover "Mini Camp" in Northwest Austin
DESCRIPTION:When:  November 9th – November 10th\, 2024\nDrop off:  Saturday at 5:00 PM\nPick up:  Sunday at 10:00 AM \nWhere:  Northwest Austin \n\nCost:  FREE\n\nThe Junior Branch Board will be selling optional mini-camp t-shirts to attendees – $30 each and to be bought at the camp\nWho Can Attend:  All youth ages 10-18 who are interested in CISV Austin San Antonio.\nAll Mini-Camp participants\, including Junior Branch board members\, must have this online registration and release form filled out by Thursday Nov. 7\, 2024. If you have multiple children participating\, you must fill out this online form for each child.\nNo registrations will be taken at the event.\n\nRegistration: Signup Here \nEvent Details:\nMini Camp is an overnight event for youth interested in learning more about CISV programs. CISV activities are a chance for young people to connect and have fun while learning about human rights\, cooperation and global friendship. Youth will participate in engaging and educational activities led by the ATXSA Junior Branch (JB) Board\, which is the youth-led division of CISV. JB board members develop leadership skills by organizing local activities with an emphasis on building community connections.\n\n\n\n\nBRING:\n\nWater Bottle\nSleeping Bag\nPillow\nAir Mattress (or some kind of sleeping pad)\nToiletries\nPJs\nChange of clothes\nClosed Toe Shoes\n\n\nDO NOT BRING:\nNo cell phones\, laptops\, tablets\, music players or games are allowed. \n\n\nCISV ATXSA will provide adult chaperones\, pizza dinner\, snacks\, breakfast\, and drinks.\nTo ensure a successful and free mini camp\, please consider donating or volunteering.   P\nPlease use the Sign-Up Genius link below to help.\n\nVolunteer Form\n\n\n\n\nFor any additional questions\, please contact Erika Leakey @ 512-796-8325
URL:https://atxsa.cisvusa.org/event/mini-camp/
END:VEVENT
BEGIN:VEVENT
DTSTART;TZID=America/New_York:20240511T150000
DTEND;TZID=America/New_York:20240511T170000
DTSTAMP:20260420T215522
CREATED:20240321T140324Z
LAST-MODIFIED:20240321T140637Z
UID:10000036-1715439600-1715446800@atxsa.cisvusa.org
SUMMARY:Chapter Send Off Party - Saturday\, May 11
DESCRIPTION:A CISV tradition is to have a Send-Off Party for all the delegations in May. This year our Send Off Party will be Sat. May 11 from 3pm-5pm. \nPlease contact us with questions or to RSVP!
URL:https://atxsa.cisvusa.org/event/chapter-send-off-party-saturday-may-11/
ATTACH;FMTTYPE=image/png:https://atxsa.cisvusa.org/wp-content/uploads/sites/33/2023/11/Screenshot-2023-11-05-at-11.42.30 AM.png
END:VEVENT
BEGIN:VEVENT
DTSTART;TZID=America/New_York:20240324T140000
DTEND;TZID=America/New_York:20240324T160000
DTSTAMP:20260420T215522
CREATED:20240321T140021Z
LAST-MODIFIED:20240321T140610Z
UID:10000035-1711288800-1711296000@atxsa.cisvusa.org
SUMMARY:CISV Family Social - Sunday\, March 24
DESCRIPTION:Join us for travel tips\, games for the kids\, food and fellowship.\n\nSun. Mar. 24 from 2pm-4pm\n\nContact us for more details and to RSVP
URL:https://atxsa.cisvusa.org/event/cisv-family-social-sunday-march-24/
ATTACH;FMTTYPE=image/jpeg:https://atxsa.cisvusa.org/wp-content/uploads/sites/33/2018/10/IMG_4836.jpg
END:VEVENT
BEGIN:VEVENT
DTSTART;TZID=America/New_York:20231217T150000
DTEND;TZID=America/New_York:20231217T170000
DTSTAMP:20260420T215522
CREATED:20231210T012344Z
LAST-MODIFIED:20231210T012528Z
UID:10000034-1702825200-1702832400@atxsa.cisvusa.org
SUMMARY:Junior Branch (JB) Cookie Decorating and Service Project
DESCRIPTION:The CISV Junior Branch (youth board) is hosting a holiday cookie party for kids ages 10+. There will also be a service project activity that benefits our local community. Sunday Dec. 17th. Drop off at 3pm\, pick up at 5pm.
URL:https://atxsa.cisvusa.org/event/junior-branch-jb-cookie-decorating-and-service-project/
END:VEVENT
BEGIN:VEVENT
DTSTART;TZID=America/New_York:20231029T150000
DTEND;TZID=America/New_York:20231029T170000
DTSTAMP:20260420T215522
CREATED:20230912T012635Z
LAST-MODIFIED:20230912T012815Z
UID:10000030-1698591600-1698598800@atxsa.cisvusa.org
SUMMARY:Junior Branch Hangout - Oct 29\, 2023
DESCRIPTION:Hey JB! We have a get together planned for Oct 29th at 3-5pm. Contact Crystal Cotti for more information!
URL:https://atxsa.cisvusa.org/event/junior-branch-hangout-oct-29th/
ATTACH;FMTTYPE=image/png:https://atxsa.cisvusa.org/wp-content/uploads/sites/33/2023/09/Screenshot-2023-09-11-at-7.26.12-PM.png
END:VEVENT
BEGIN:VEVENT
DTSTART;TZID=America/New_York:20230422T090000
DTEND;TZID=America/New_York:20230422T113000
DTSTAMP:20260420T215522
CREATED:20230411T114645Z
LAST-MODIFIED:20230411T131416Z
UID:10000021-1682154000-1682163000@atxsa.cisvusa.org
SUMMARY:CISV Junior Branch Service Project
DESCRIPTION:Earth Day @ Urban Roots Farm\n\n\n\nCISV Austin San Antonio has organized a spring service project to celebrate Earth Day and to help young people apply what they have learned about sustainable agriculture. Volunteers will be doing work on the Urban Roots Farm in southeast Austin. All CISV youth are encouraged to sign-up. \n\n– All minors must have an adult accompany them on the farm.\n– Please arrive no later than 8:45am.\n\n\n\n\n\nTo RSVP for this event\, please fill out the following forms:\n\n\n1. Registration form for each participant (adults and youth)\n2. Farm waiver for Urban Roots –signed by April 21\n\n\n\n\n\nWhat to bring: \n\n\n– Water bottle\n– Snack\n– Closed-toe shoes\n– Hat\n– Sunscreen\n\nQuestions? Email crystalcotti@gmail.com
URL:https://atxsa.cisvusa.org/event/cisv-junior-branch-service-project/
LOCATION:Urban Roots\, 7651 Delwau Lane\, Austin\, TX\, 78723
ATTACH;FMTTYPE=image/png:https://atxsa.cisvusa.org/wp-content/uploads/sites/33/2023/04/logofarm.png
END:VEVENT
BEGIN:VEVENT
DTSTART;TZID=America/New_York:20230414T173000
DTEND;TZID=America/New_York:20230414T193000
DTSTAMP:20260420T215523
CREATED:20230411T114618Z
LAST-MODIFIED:20230411T132529Z
UID:10000022-1681493400-1681500600@atxsa.cisvusa.org
SUMMARY:CISV Happy Hour + Info Session
DESCRIPTION:Please join us for an adult social/happy hour!\nWe look forward to a fun evening for current and new families to meet and learn about CISV Austin/ San Antonio and our chapter’s opportunities for 2023! We will also have an opportunity to hear from Junior Branch board members about their CISV experiences. Bringing interested\, new families is encouraged! All (adults) welcome! \nThis event is held in Central Austin\, graciously hosted in the home of one of our board members. \n\n\n\n\n\n\nFind out more details and let us know you’re able to attend by visiting our event on Evite
URL:https://atxsa.cisvusa.org/event/cisv-happy-hour/
ATTACH;FMTTYPE=image/jpeg:https://atxsa.cisvusa.org/wp-content/uploads/sites/33/2023/04/hh.jpg
END:VEVENT
BEGIN:VEVENT
DTSTART;TZID=America/New_York:20230211T190000
DTEND;TZID=America/New_York:20230212T090000
DTSTAMP:20260420T215523
CREATED:20221208T025206Z
LAST-MODIFIED:20221208T145747Z
UID:10000023-1676142000-1676192400@atxsa.cisvusa.org
SUMMARY:Selection Night Tentative Date: Feb 11
DESCRIPTION:Selection events are intended to give kids a chance to see what CISV games and activities are like\, to give parents greater understanding of CISV’s educational principles and program details\, and to give our chapter the opportunity to get to know the youth and leader applicants. \nPlease note that the date and time are tentative currently and will be formalized at a later time. \nIf you have questions\, please contact us! \n 
URL:https://atxsa.cisvusa.org/event/selection-night-feb-11/
ATTACH;FMTTYPE=image/jpeg:https://atxsa.cisvusa.org/wp-content/uploads/sites/33/2018/03/IMG_6598.jpg
END:VEVENT
BEGIN:VEVENT
DTSTART;VALUE=DATE:20200815
DTEND;VALUE=DATE:20200816
DTSTAMP:20260420T215523
CREATED:20200727T233216Z
LAST-MODIFIED:20200727T233430Z
UID:10000024-1597449600-1597535999@atxsa.cisvusa.org
SUMMARY:Submit Your Proposal To 2021 CISV Global Conference
DESCRIPTION:Calls for sessions for the 2021 CISV Global Conference are now open!\n\n\nThis is an amazing opportunity to present content \, ideas \, methods \, and tools  to CISVers from all over the world.\n\n\nDon’t forget to submit your proposal before 15 August 2020.
URL:https://atxsa.cisvusa.org/event/submit-your-proposal-to-2021-cisv-global-conference/
ATTACH;FMTTYPE=image/png:https://atxsa.cisvusa.org/wp-content/uploads/sites/33/2020/07/GlobalConference_2021Logo_Retina.png
END:VEVENT
BEGIN:VEVENT
DTSTART;TZID=America/New_York:20200522T080000
DTEND;TZID=America/New_York:20200525T170000
DTSTAMP:20260420T215523
CREATED:20200221T233209Z
LAST-MODIFIED:20200221T233219Z
UID:10000025-1590134400-1590426000@atxsa.cisvusa.org
SUMMARY:National Mini Camp—Midwest Ohio Chapter
DESCRIPTION:
URL:https://atxsa.cisvusa.org/event/national-mini-camp-midwest-ohio-chapter/
END:VEVENT
BEGIN:VEVENT
DTSTART;TZID=America/New_York:20200517T160000
DTEND;TZID=America/New_York:20200517T180000
DTSTAMP:20260420T215523
CREATED:20200221T233118Z
LAST-MODIFIED:20200221T233118Z
UID:10000026-1589731200-1589738400@atxsa.cisvusa.org
SUMMARY:Spring General Chapter Meeting
DESCRIPTION:
URL:https://atxsa.cisvusa.org/event/spring-general-chapter-meeting/
END:VEVENT
BEGIN:VEVENT
DTSTART;TZID=America/New_York:20200404T170000
DTEND;TZID=America/New_York:20200405T170000
DTSTAMP:20260420T215523
CREATED:20200221T233039Z
LAST-MODIFIED:20200221T233039Z
UID:10000027-1586019600-1586106000@atxsa.cisvusa.org
SUMMARY:Valet Carwash Fundraiser
DESCRIPTION:
URL:https://atxsa.cisvusa.org/event/valet-carwash-fundraiser/
END:VEVENT
BEGIN:VEVENT
DTSTART;TZID=America/Chicago:20200307T120000
DTEND;TZID=America/Chicago:20200307T160000
DTSTAMP:20260420T215523
CREATED:20200221T232649Z
LAST-MODIFIED:20200221T232946Z
UID:10000028-1583582400-1583596800@atxsa.cisvusa.org
SUMMARY:JB National Service Day
DESCRIPTION:
URL:https://atxsa.cisvusa.org/event/jb-national-service-day/
ATTACH;FMTTYPE=image/jpeg:https://atxsa.cisvusa.org/wp-content/uploads/sites/33/2020/02/junior_brand.jpg
END:VEVENT
END:VCALENDAR