BEGIN:VCALENDAR
VERSION:2.0
PRODID:-//Austin-San Antonio - ECPv6.15.20//NONSGML v1.0//EN
CALSCALE:GREGORIAN
METHOD:PUBLISH
X-WR-CALNAME:Austin-San Antonio
X-ORIGINAL-URL:https://atxsa.cisvusa.org
X-WR-CALDESC:Events for Austin-San Antonio
REFRESH-INTERVAL;VALUE=DURATION:PT1H
X-Robots-Tag:noindex
X-PUBLISHED-TTL:PT1H
BEGIN:VTIMEZONE
TZID:America/New_York
BEGIN:DAYLIGHT
TZOFFSETFROM:-0500
TZOFFSETTO:-0400
TZNAME:EDT
DTSTART:20230312T070000
END:DAYLIGHT
BEGIN:STANDARD
TZOFFSETFROM:-0400
TZOFFSETTO:-0500
TZNAME:EST
DTSTART:20231105T060000
END:STANDARD
BEGIN:DAYLIGHT
TZOFFSETFROM:-0500
TZOFFSETTO:-0400
TZNAME:EDT
DTSTART:20240310T070000
END:DAYLIGHT
BEGIN:STANDARD
TZOFFSETFROM:-0400
TZOFFSETTO:-0500
TZNAME:EST
DTSTART:20241103T060000
END:STANDARD
BEGIN:DAYLIGHT
TZOFFSETFROM:-0500
TZOFFSETTO:-0400
TZNAME:EDT
DTSTART:20250309T070000
END:DAYLIGHT
BEGIN:STANDARD
TZOFFSETFROM:-0400
TZOFFSETTO:-0500
TZNAME:EST
DTSTART:20251102T060000
END:STANDARD
BEGIN:DAYLIGHT
TZOFFSETFROM:-0500
TZOFFSETTO:-0400
TZNAME:EDT
DTSTART:20260308T070000
END:DAYLIGHT
BEGIN:STANDARD
TZOFFSETFROM:-0400
TZOFFSETTO:-0500
TZNAME:EST
DTSTART:20261101T060000
END:STANDARD
END:VTIMEZONE
BEGIN:VTIMEZONE
TZID:America/Chicago
BEGIN:DAYLIGHT
TZOFFSETFROM:-0600
TZOFFSETTO:-0500
TZNAME:CDT
DTSTART:20230312T080000
END:DAYLIGHT
BEGIN:STANDARD
TZOFFSETFROM:-0500
TZOFFSETTO:-0600
TZNAME:CST
DTSTART:20231105T070000
END:STANDARD
BEGIN:DAYLIGHT
TZOFFSETFROM:-0600
TZOFFSETTO:-0500
TZNAME:CDT
DTSTART:20240310T080000
END:DAYLIGHT
BEGIN:STANDARD
TZOFFSETFROM:-0500
TZOFFSETTO:-0600
TZNAME:CST
DTSTART:20241103T070000
END:STANDARD
BEGIN:DAYLIGHT
TZOFFSETFROM:-0600
TZOFFSETTO:-0500
TZNAME:CDT
DTSTART:20250309T080000
END:DAYLIGHT
BEGIN:STANDARD
TZOFFSETFROM:-0500
TZOFFSETTO:-0600
TZNAME:CST
DTSTART:20251102T070000
END:STANDARD
BEGIN:DAYLIGHT
TZOFFSETFROM:-0600
TZOFFSETTO:-0500
TZNAME:CDT
DTSTART:20260308T080000
END:DAYLIGHT
BEGIN:STANDARD
TZOFFSETFROM:-0500
TZOFFSETTO:-0600
TZNAME:CST
DTSTART:20261101T070000
END:STANDARD
END:VTIMEZONE
BEGIN:VEVENT
DTSTART;TZID=America/New_York:20240324T140000
DTEND;TZID=America/New_York:20240324T160000
DTSTAMP:20260420T021151
CREATED:20240321T140021Z
LAST-MODIFIED:20240321T140610Z
UID:10000035-1711288800-1711296000@atxsa.cisvusa.org
SUMMARY:CISV Family Social - Sunday\, March 24
DESCRIPTION:Join us for travel tips\, games for the kids\, food and fellowship.\n\nSun. Mar. 24 from 2pm-4pm\n\nContact us for more details and to RSVP
URL:https://atxsa.cisvusa.org/event/cisv-family-social-sunday-march-24/
ATTACH;FMTTYPE=image/jpeg:https://atxsa.cisvusa.org/wp-content/uploads/sites/33/2018/10/IMG_4836.jpg
END:VEVENT
BEGIN:VEVENT
DTSTART;TZID=America/New_York:20240511T150000
DTEND;TZID=America/New_York:20240511T170000
DTSTAMP:20260420T021151
CREATED:20240321T140324Z
LAST-MODIFIED:20240321T140637Z
UID:10000036-1715439600-1715446800@atxsa.cisvusa.org
SUMMARY:Chapter Send Off Party - Saturday\, May 11
DESCRIPTION:A CISV tradition is to have a Send-Off Party for all the delegations in May. This year our Send Off Party will be Sat. May 11 from 3pm-5pm. \nPlease contact us with questions or to RSVP!
URL:https://atxsa.cisvusa.org/event/chapter-send-off-party-saturday-may-11/
ATTACH;FMTTYPE=image/png:https://atxsa.cisvusa.org/wp-content/uploads/sites/33/2023/11/Screenshot-2023-11-05-at-11.42.30 AM.png
END:VEVENT
BEGIN:VEVENT
DTSTART;TZID=America/Chicago:20241109T170000
DTEND;TZID=America/Chicago:20241110T100000
DTSTAMP:20260420T021151
CREATED:20191031T211931Z
LAST-MODIFIED:20241028T231646Z
UID:10000029-1731171600-1731232800@atxsa.cisvusa.org
SUMMARY:Youth Sleepover "Mini Camp" in Northwest Austin
DESCRIPTION:When:  November 9th – November 10th\, 2024\nDrop off:  Saturday at 5:00 PM\nPick up:  Sunday at 10:00 AM \nWhere:  Northwest Austin \n\nCost:  FREE\n\nThe Junior Branch Board will be selling optional mini-camp t-shirts to attendees – $30 each and to be bought at the camp\nWho Can Attend:  All youth ages 10-18 who are interested in CISV Austin San Antonio.\nAll Mini-Camp participants\, including Junior Branch board members\, must have this online registration and release form filled out by Thursday Nov. 7\, 2024. If you have multiple children participating\, you must fill out this online form for each child.\nNo registrations will be taken at the event.\n\nRegistration: Signup Here \nEvent Details:\nMini Camp is an overnight event for youth interested in learning more about CISV programs. CISV activities are a chance for young people to connect and have fun while learning about human rights\, cooperation and global friendship. Youth will participate in engaging and educational activities led by the ATXSA Junior Branch (JB) Board\, which is the youth-led division of CISV. JB board members develop leadership skills by organizing local activities with an emphasis on building community connections.\n\n\n\n\nBRING:\n\nWater Bottle\nSleeping Bag\nPillow\nAir Mattress (or some kind of sleeping pad)\nToiletries\nPJs\nChange of clothes\nClosed Toe Shoes\n\n\nDO NOT BRING:\nNo cell phones\, laptops\, tablets\, music players or games are allowed. \n\n\nCISV ATXSA will provide adult chaperones\, pizza dinner\, snacks\, breakfast\, and drinks.\nTo ensure a successful and free mini camp\, please consider donating or volunteering.   P\nPlease use the Sign-Up Genius link below to help.\n\nVolunteer Form\n\n\n\n\nFor any additional questions\, please contact Erika Leakey @ 512-796-8325
URL:https://atxsa.cisvusa.org/event/mini-camp/
END:VEVENT
BEGIN:VEVENT
DTSTART;TZID=America/New_York:20241205T190000
DTEND;TZID=America/New_York:20241205T210000
DTSTAMP:20260420T021151
CREATED:20231105T183526Z
LAST-MODIFIED:20241028T185828Z
UID:10000031-1733425200-1733432400@atxsa.cisvusa.org
SUMMARY:2024 Holiday Party and Fundraiser 
DESCRIPTION:CISV Austin is hosting a holiday dinner party celebration!\nCISV Austin is hosting a holiday dinner party celebration. Hear from students about how CISV is shaping their future through global friendship. \nEnjoy dinner\, drinks and games with fellow parents. \nAll funds will go toward scholarships that help students attend a life-changing CISV camp that they would not otherwise be able to access. \nDress is festive business casual. All are welcome – CISV parents and kids along with those new to CISV – friends\, extended family and colleagues. \n————————-\nChoose from 3 donation ticket levels:\n\n– Bronze Ticket $50/person – Includes dinner\, drinks and program\n– Silver Ticket $100/person – Everything above + Special Sponsor recognition\n– Gold Ticket $250/person – Everything above +VIP Status and 2 raffle tickets\n\nAll funds raised benefit local CISV scholarships so please spread the word & invite others. Children under 2 do not require a ticket. \n————————-\nRSVP\nPlease visit the Event Evite to RSVP! \nMake sure to add to your RSVP: \n\n– Guest names\n– Number attending\n– Ticket level\n\nChoose from these payment options: \n\n– PayPal to @cisvatxsa\n– Venmo to @cisvatxsa\n– Checks mailed to 5905 Lookout Mountain Drive Austin\, TX 78731; Include guest name(s) & ticket level in the memo. Include guest name(s) & ticket level in the notes section.\n\n  \nFor any questions\, please contact: crystalcotti@gmail.com
URL:https://atxsa.cisvusa.org/event/2023-holiday-party-and-fundraiser/
ATTACH;FMTTYPE=image/png:https://atxsa.cisvusa.org/wp-content/uploads/sites/33/2023/11/Screenshot-2023-11-05-at-11.20.06 AM.png
END:VEVENT
BEGIN:VEVENT
DTSTART;TZID=America/New_York:20241208T170000
DTEND;TZID=America/New_York:20241208T210000
DTSTAMP:20260420T021151
CREATED:20230912T011213Z
LAST-MODIFIED:20241205T182126Z
UID:10000019-1733677200-1733691600@atxsa.cisvusa.org
SUMMARY:Book People Gift Wrapping Event
DESCRIPTION:Join us for a fundraising and marketing event for CISV at BookPeople on December 8th! This is a wonderful opportunity to raise donations and tips by wrapping gifts for shoppers. \nBookPeople will provide all the necessary supplies—so all you need to do is show up and lend a hand! We’re looking for 2-3 volunteers per hour\, with a maximum of 6 volunteers per time slot. \nClick here to Sign Up and volunteer! \nLocation: Book People on North Lamar \n603 N. Lamar Blvd.\, Austin\, TX 78703 \n  \n  \n 
URL:https://atxsa.cisvusa.org/event/bookpeople-holiday-fundraiser/
LOCATION:Bookpeople\, 603 N. Lamar Blvd\, Austin\, Texas\, 78703
ATTACH;FMTTYPE=image/jpeg:https://atxsa.cisvusa.org/wp-content/uploads/sites/33/2024/12/bookpeople.jpg
END:VEVENT
BEGIN:VEVENT
DTSTART;VALUE=DATE:20241220
DTEND;VALUE=DATE:20241221
DTSTAMP:20260420T021151
CREATED:20231105T185722Z
LAST-MODIFIED:20241028T193141Z
UID:10000033-1734652800-1734739199@atxsa.cisvusa.org
SUMMARY:December 20th - Program Applications Due
DESCRIPTION:All applications materials and due by December 20tg! \nApply for a 2025 Program
URL:https://atxsa.cisvusa.org/event/december-program-applications-due/
ATTACH;FMTTYPE=image/png:https://atxsa.cisvusa.org/wp-content/uploads/sites/33/2023/11/Screenshot-2023-11-05-at-11.55.39 AM.png
END:VEVENT
BEGIN:VEVENT
DTSTART;TZID=America/New_York:20250208T180000
DTEND;TZID=America/New_York:20250209T090000
DTSTAMP:20260420T021151
CREATED:20231105T185308Z
LAST-MODIFIED:20250114T201551Z
UID:10000032-1739037600-1739091600@atxsa.cisvusa.org
SUMMARY:Program Selection Night 2025
DESCRIPTION:Our Selection Night will take place Sat. Feb 8 at 6pm until Sun. Feb. 9 at 9am. Youth and leader applicants are expected to stay overnight. \nYouth Registration for Selection Night \nhttps://forms.gle/gsB9Hh32B3b9QPjM6\nParents whose children have never traveled with CISV will need to schedule an interview\, either in person at Selection Night between 6pm-8pm or on Zoom some time before Feb. 8. \nPart of the CISV program application process is the interview and selection process. \n\nEach fall\, we receive program opportunities from other chapters. The delegates that can be sent are limited to a specific number. In most cases\, the gender is specified.  This number and mix is based on research. \nOur Selection Committee\, all of whom have extensive experience working with youth and CISV\, struggle with selection when we have a plethora of great applicants and most of our programs have applicants that exceed our availability.  The committee must carefully consider the best applicants and mix of delegates to meet the specific program’s goals. \nThe goals and selection criteria are slightly different for each program. All programs share the common goals of building global friendships and learning about the educational areas of diversity\, conflict and resolution\, human rights and sustainable development. \n\nSelection Night Myths\nSometimes there are misconceptions about how selection is made.  Here are a few common myths. \nJBer’s who fulfill a certain role in the JB are entitled to a Junior Counselor/Step Up/ Seminar spot.  While it is true that involvement and leadership in the JB and increased knowledge of CISV are pluses in selection\, selection is never an entitlement.  Additionally\, programs are not selected with any particular youth in mind and are driven based on chapter demographics\, gender fairness\, and desirability of location and time period.  Everyone has a fair shot. \nYou have to be extroverted/ have a super bubbly personality/be a top student/etc. to be selected. So not so. Can you imagine 48 of the same type of person all together?! The key to a good delegation is balance.  Diversity of all kinds makes the world go round.  Same is true of a CISV program and delegation.  There is a place for introspective book worms\, logical techno kids\, life-of-the party dancing fools and pie-in-the sky dreamers. \nYour parent is on the board or volunteers for/contributes to the chapter in a significant way.  The selection rate for board member’s youth is higher. This has much more to do with the families’ general increased involvement in CISV and thus the youth’s involvement in CISV and knowledge about the organizations goals than their parent being a board member or super volunteer.  Being tuned into the chapter deadlines and being able to communicate CISV at the interview is a plus. \nImproving the Odds\nSo you really want to participate in a CISV program\, which as we started with\, has finite opportunities.  What can you do to increase your odds of attending? \nBe involved with CISV year round.  We have meetings\, activities\, mini-camps.  Not everyone can go to everything\, but the more you participate\, the more you will know about CISV. \nTake the interview seriously.  This is your chance to show the Selection Committee what you have to offer.  Don’t minimize it or play with your phone during the interview!  Make a good impression. \nWait and see what Round Two brings.  If you did not get selected\, Round Two could turn up returned invitations or chapter shares for when chapters cannot fill their invitations.  Your chapter president will start finding out about opportunities.  We try to place as many youth as possible in “delegation shares” with other chapters. \nBe flexible.  Didn’t get in a summer program to your favored destination?  Consider a winter program or a location that is less sought after.  Not selected for JC?  If you are 17\, you could also be eligible for a Seminar spot or vice versa.  Didn’t get in Step-Up?  Consider Interchange\, etc. \nGet your CISV fix in short bursts!  Mini-camps and National Youth Board Meeting are a great way to get the CISV experience in weekend doses.  Many JBers never attend any international\, multi-week program and get just as much out of CISV by attending meetings\, activities and mini-camps!  It’s all fun and all good.  You will still meet lots of new friends from all over.  Save that long camp experience for when you can apply to be a leader! \nHopefully this helps you understand the selection process. Please don’t hesitate to contact us if you have more questions\, we are happy to help.
URL:https://atxsa.cisvusa.org/event/program-selection-night/
ATTACH;FMTTYPE=image/png:https://atxsa.cisvusa.org/wp-content/uploads/sites/33/2023/11/c.png
END:VEVENT
BEGIN:VEVENT
DTSTART;TZID=America/New_York:20250412T180000
DTEND;TZID=America/New_York:20250412T213000
DTSTAMP:20260420T021151
CREATED:20230411T114712Z
LAST-MODIFIED:20250406T180926Z
UID:10000020-1744480800-1744493400@atxsa.cisvusa.org
SUMMARY:JB Parent's Night Out Fundraiser
DESCRIPTION:The Junior Branch Board of our chapter is hosting a parent’s night out fundraiser.\n\nThe JB Board is excited to host a Parents’ Night Out on April 12th from 6:00 PM to 9:30 PM! Enjoy an evening filled with movies\, games\, dinner\, and popcorn for ages 8 and up—everything is provided and the cost is just $20 per child. Check-in will begin at 6:00 PM\, and payment will be collected upon arrival via Venmo. \nThe Parent’s Night Out will take place at 6601 Laurelwood Dr. Austin\, TX 78731. \nFeel free to bring fold-out chairs\, pillows\, blankets\, or anything else that will help your child stay comfy\, as we’ll be watching the movie outdoors. Registration will close 24 hours prior to the event\, so be sure to sign up using the link below. \n\n\n\n\n\n\nTo participate\, fill out the sign up form
URL:https://atxsa.cisvusa.org/event/jb-parents-night-out-fundraiser/
ATTACH;FMTTYPE=image/png:https://atxsa.cisvusa.org/wp-content/uploads/sites/33/2023/04/Fundraising-PNG-756747918.png
END:VEVENT
BEGIN:VEVENT
DTSTART;TZID=America/Chicago:20250829T150000
DTEND;TZID=America/Chicago:20250901T110000
DTSTAMP:20260420T021151
CREATED:20250519T175702Z
LAST-MODIFIED:20250810T002642Z
UID:10000038-1756479600-1756724400@atxsa.cisvusa.org
SUMMARY:Western Regional Mini Camp - Austin
DESCRIPTION:🎉 CISV Austin is so excited to host Western Regional Mini Camp! 🎉\nThis camp will take place Fri. Aug 30 – Mon. Sept. 1 at a summer camp facility just outside of Austin. \nChildren ages 10-17 are invited to attend plus their adult chaperones. The western region includes Austin\, Dallas\, Denver\, LA\, San Francisco and Portland. \nAccommodations will be bunk beds in cabins\, just like a sleepaway camp! \nRegistration is $350/person and includes meals\, activities and accomodations. JB Board members planning activities and adult chaperones may attend free of charge. \nRegister Here\nWRMC Information Session\n\n\n\n\nArrival Info \n\n\n\n\nPlease fly into Austin-Bergstrom International Airport (AUS) ONLY\nIf flying-please arrive by 3:00 PM Friday\, August 29\nWelcome activities begin at 5:00pm at the camp site\n\n\n\n\n\nDeparture Info \n\n\n\n\nPlease select a departure flight from Austin-Bergstrom\nPlease choose a flight leaving on or after 11:00am Mon. Sept 1\n\n\n\n\n\nWho’s Coming? \n\n\n\n\nOpen to anyone interested in CISV ages 10-17–no prior experience necessary\nAttendees 15 and under must travel with a chaperone (21+)
URL:https://atxsa.cisvusa.org/event/western-regional-mini-camp-austin/
ATTACH;FMTTYPE=image/jpeg:https://atxsa.cisvusa.org/wp-content/uploads/sites/33/2025/05/WRMC-Logo.jpg
END:VEVENT
BEGIN:VEVENT
DTSTART;TZID=America/Chicago:20251019T150000
DTEND;TZID=America/Chicago:20251019T170000
DTSTAMP:20260420T021151
CREATED:20250923T221336Z
LAST-MODIFIED:20250928T204707Z
UID:10000039-1760886000-1760893200@atxsa.cisvusa.org
SUMMARY:Junior Branch Halloween Party
DESCRIPTION:Sign Up for CISV Junior Branch Halloween Party – Oct. 19\n\nhttps://evite.me/KE8NNSMDaY\n\nThe Junior Branch Board is hosting a Halloween Party for CISVers ages 10-17. Wear your favorite costume and enjoy fun activities like pumpkin painting\, Corn Hole\, sack races\, face painting and more! The JB Board will be selling baked goods and merch to raise money for CISV scholarships.
URL:https://atxsa.cisvusa.org/event/junior-branch-halloween-party/
ATTACH;FMTTYPE=image/jpeg:https://atxsa.cisvusa.org/wp-content/uploads/sites/33/2025/09/halloween2.jpg
END:VEVENT
BEGIN:VEVENT
DTSTART;TZID=America/Chicago:20251026T150000
DTEND;TZID=America/Chicago:20251026T170000
DTSTAMP:20260420T021151
CREATED:20251001T221802Z
LAST-MODIFIED:20251001T221802Z
UID:10000044-1761490800-1761498000@atxsa.cisvusa.org
SUMMARY:New Parent Info Session
DESCRIPTION:Parents\, please join us to learn about CISV\, including its programs\, values\, and activities. \nLocal board and junior board members will lead an information session\, a short CISV activity\, and Q&A. Drinks and appetizers will be served. \nNew Parent Info Session happening on Oct 26 from 3pm-5pm at the Herman home. \nRSVP for the New Parent Info Session\nhttps://evite.me/fFfJVwDQ3D
URL:https://atxsa.cisvusa.org/event/new-parent-info-session/
ATTACH;FMTTYPE=image/png:https://atxsa.cisvusa.org/wp-content/uploads/sites/33/2025/10/infosession.png
END:VEVENT
BEGIN:VEVENT
DTSTART;TZID=America/Chicago:20251115T180000
DTEND;TZID=America/Chicago:20251116T090000
DTSTAMP:20260420T021151
CREATED:20250927T203516Z
LAST-MODIFIED:20250928T204923Z
UID:10000043-1763229600-1763283600@atxsa.cisvusa.org
SUMMARY:Mini Camp Sleep Over - Fall 2025
DESCRIPTION:Sign Up for CISV Mini Camp in Austin – Nov 15-16 \nhttps://www.zeffy.com/en-US/ticketing/cisv-mini-camp\n\nMini Camp is an overnight event for youth interested in learning more about CISV programs. It is a chance for young people to connect and have fun while learning about human rights\, cooperation and global friendship. \nWhen:  November 15th – November 16th\, 2025 \nDrop off:  Saturday at 6:00 PM \nPick up:  Sunday at 9:00 AM
URL:https://atxsa.cisvusa.org/event/mini-camp-sleep-over-fall-2025/
ATTACH;FMTTYPE=image/jpeg:https://atxsa.cisvusa.org/wp-content/uploads/sites/33/2025/09/camp.jpg
LOCATION:
END:VEVENT
BEGIN:VEVENT
DTSTART;VALUE=DATE:20251219
DTEND;VALUE=DATE:20251220
DTSTAMP:20260420T021151
CREATED:20250923T221740Z
LAST-MODIFIED:20251218T015346Z
UID:10000041-1766102400-1766188799@atxsa.cisvusa.org
SUMMARY:Summer Program Applications (Deadline Dec\, 19)
DESCRIPTION:Thank you for your interest in applying for a 2026 CISV Program. All applications are submitted online using Jotforms. Please fill out the appropriate form below. Please note the reference forms must be emailed to the applicant’s reference to be filled out and submitted. Two references are required and can be teachers\, coaches or family friends. The deadline to submit applications and references is December 19\, 2025. \n\n\n\n\nApply\nThank you for your interest in applying for a 2026 CISV Program. All applications are submitted online using Jotforms. Please fill out the appropriate form below.\n\n\n\nYouth Delegate Application\nYouth Delegate Reference\nStaff/Leader/Junior Counselor Application\nStaff/Leader/Junior Counselor Reference\n\n\n  \nYouth delegates will be asked to select a program in the application (Village\, Youth Meeting\, etc.). The chart below tells you which program your child is eligible for based on his/her birthday. \n\n \n\n\n\n\nScholarships\nCISV Austin works to ensure cost is not a barrier to participation in programs. If you are interested in applying for a scholarship\, please fill out the scholarship application below. CISV Austin cannot guarantee all scholarship requests are approved. Scholarship requests are not considered as part of the selection process. The deadline to submit a scholarship application is December 19\, 2025.\n\n\nCISV Scholarship Application\n\n\n\nPlease send application and scholarship questions to the CISV Austin President at crystalcotti@gmail.com.
URL:https://atxsa.cisvusa.org/event/summer-program-applications-open/
ATTACH;FMTTYPE=image/jpeg:https://atxsa.cisvusa.org/wp-content/uploads/sites/33/2025/09/summer.jpg
END:VEVENT
END:VCALENDAR